BEGIN:VCALENDAR
VERSION:2.0
PRODID:-//SVP Bezirk Rheinfelden //NONSGML Events //EN
CALSCALE:GREGORIAN
X-WR-CALNAME:SVP Bezirk Rheinfelden
BEGIN:VEVENT
CREATED:20250207T120230Z
UID:2193
DTEND:20250523T200000
DTSTART:20250523T190000
DTSTAMP:20260424T103244Z
LOCATION:
DESCRIPTION:
SUMMARY:Parteiversammlung SVP Stadt Rheinfelden
ORGANIZER:
URL;VALUE=URI:https://www.svp-bezirk-rheinfelden.ch/aktuell/termine/parteiversammlung-svp-stadt-rheinfelden-7/
TRANSP:OPAQUE
END:VEVENT
END:VCALENDAR
