BEGIN:VCALENDAR
VERSION:2.0
PRODID:-//SVP Bezirk Rheinfelden //NONSGML Events //EN
CALSCALE:GREGORIAN
X-WR-CALNAME:SVP Bezirk Rheinfelden
BEGIN:VEVENT
CREATED:20250207T115629Z
UID:2186
DTEND:20251119T200000
DTSTART:20251119T190000
DTSTAMP:20260424T140313Z
LOCATION:
DESCRIPTION:
SUMMARY:Parteiversammlung SVP Kaiseraugst
ORGANIZER:
URL;VALUE=URI:https://www.svp-bezirk-rheinfelden.ch/aktuell/termine/parteiversammlung-svp-kaiseraugst-8/
TRANSP:OPAQUE
END:VEVENT
END:VCALENDAR
