BEGIN:VCALENDAR
VERSION:2.0
PRODID:-//SVP Bezirk Rheinfelden //NONSGML Events //EN
CALSCALE:GREGORIAN
X-WR-CALNAME:SVP Bezirk Rheinfelden
BEGIN:VEVENT
CREATED:20250207T115536Z
UID:2184
DTEND:20250611T200000
DTSTART:20250611T190000
DTSTAMP:20260424T140155Z
LOCATION:
DESCRIPTION:
SUMMARY:Parteiversammlung SVP Kaiseraugst
ORGANIZER:
URL;VALUE=URI:https://www.svp-bezirk-rheinfelden.ch/aktuell/termine/parteiversammlung-svp-kaiseraugst-7/
TRANSP:OPAQUE
END:VEVENT
END:VCALENDAR
