BEGIN:VCALENDAR
VERSION:2.0
PRODID:-//SVP Bezirk Rheinfelden //NONSGML Events //EN
CALSCALE:GREGORIAN
X-WR-CALNAME:SVP Bezirk Rheinfelden
BEGIN:VEVENT
CREATED:20250207T115434Z
UID:2182
DTEND:20250319T210000
DTSTART:20250319T190000
DTSTAMP:20260424T140621Z
LOCATION:
DESCRIPTION:
SUMMARY:Generalversamlung SVP Kaiseraugst
ORGANIZER:
URL;VALUE=URI:https://www.svp-bezirk-rheinfelden.ch/aktuell/termine/generalversamlung-svp-kaiseraugst/
TRANSP:OPAQUE
END:VEVENT
END:VCALENDAR
