BEGIN:VCALENDAR
VERSION:2.0
PRODID:-//SVP Bezirk Rheinfelden //NONSGML Events //EN
CALSCALE:GREGORIAN
X-WR-CALNAME:SVP Bezirk Rheinfelden
BEGIN:VEVENT
CREATED:20240829T072540Z
UID:2070
DTEND:20240831T140000
DTSTART:20240831T100000
DTSTAMP:20260424T103516Z
LOCATION:Parkplatz Violahof
DESCRIPTION:
SUMMARY:SVP bi de Lüt: Kaiseraugst
ORGANIZER:
URL;VALUE=URI:https://www.svp-bezirk-rheinfelden.ch/aktuell/termine/svp-bi-de-luet-kaiseraugst/
TRANSP:OPAQUE
END:VEVENT
END:VCALENDAR
