BEGIN:VCALENDAR
VERSION:2.0
PRODID:-//SVP Bezirk Rheinfelden //NONSGML Events //EN
CALSCALE:GREGORIAN
X-WR-CALNAME:SVP Bezirk Rheinfelden
BEGIN:VEVENT
CREATED:20240201T183504Z
UID:1862
DTEND:20241129T200000
DTSTART:20241129T190000
DTSTAMP:20260424T101003Z
LOCATION:
DESCRIPTION:
SUMMARY:Parteiversammlung SVP Stadt Rheinfelden
ORGANIZER:
URL;VALUE=URI:https://www.svp-bezirk-rheinfelden.ch/aktuell/termine/parteiversammlung-svp-stadt-rheinfelden-6/
TRANSP:OPAQUE
END:VEVENT
END:VCALENDAR
