BEGIN:VCALENDAR
VERSION:2.0
PRODID:-//SVP Bezirk Rheinfelden //NONSGML Events //EN
CALSCALE:GREGORIAN
X-WR-CALNAME:SVP Bezirk Rheinfelden
BEGIN:VEVENT
CREATED:20240201T183252Z
UID:1858
DTEND:20240614T200000
DTSTART:20240614T190000
DTSTAMP:20260424T100525Z
LOCATION:Rheinfelden
DESCRIPTION:
SUMMARY:Parteiversammlung SVP Stadt Rheinfelden
ORGANIZER:
URL;VALUE=URI:https://www.svp-bezirk-rheinfelden.ch/aktuell/termine/parteiversammlung-svp-stadt-rheinfelden-5/
TRANSP:OPAQUE
END:VEVENT
END:VCALENDAR
