BEGIN:VCALENDAR
VERSION:2.0
PRODID:-//SVP Bezirk Rheinfelden //NONSGML Events //EN
CALSCALE:GREGORIAN
X-WR-CALNAME:SVP Bezirk Rheinfelden
BEGIN:VEVENT
CREATED:20240201T180915Z
UID:1851
DTEND:20240612T000000
DTSTART:20240612T000000
DTSTAMP:20260424T140155Z
LOCATION:
DESCRIPTION:
SUMMARY:Parteiversammlung SVP Kaiseraugst
ORGANIZER:
URL;VALUE=URI:https://www.svp-bezirk-rheinfelden.ch/aktuell/termine/parteiversammlung-svp-kaiseraugst-5/
TRANSP:OPAQUE
END:VEVENT
END:VCALENDAR
