BEGIN:VCALENDAR
VERSION:2.0
PRODID:-//SVP Bezirk Rheinfelden //NONSGML Events //EN
CALSCALE:GREGORIAN
X-WR-CALNAME:SVP Bezirk Rheinfelden
BEGIN:VEVENT
CREATED:20221202T002336Z
UID:1407
DTEND:20230315T000000
DTSTART:20230315T000000
DTSTAMP:20260424T140411Z
LOCATION:Kaiseraugst
DESCRIPTION:
SUMMARY:Generalversammlung SVP Kaiseraugst
ORGANIZER:
URL;VALUE=URI:https://www.svp-bezirk-rheinfelden.ch/aktuell/termine/generalversammlung-svp-kaiseraugst-2/
TRANSP:OPAQUE
END:VEVENT
END:VCALENDAR
