BEGIN:VCALENDAR
VERSION:2.0
PRODID:-//SVP Bezirk Rheinfelden //NONSGML Events //EN
CALSCALE:GREGORIAN
X-WR-CALNAME:SVP Bezirk Rheinfelden
BEGIN:VEVENT
CREATED:20220912T062038Z
UID:1346
DTEND:20231025T000000
DTSTART:20231025T000000
DTSTAMP:20260420T151146Z
LOCATION:
DESCRIPTION:Landgasthof Löwen, Boswil 20.00 Uhr
SUMMARY:Parteitag
ORGANIZER:
URL;VALUE=URI:https://www.svp-bezirk-rheinfelden.ch/aktuell/termine/parteitag/
TRANSP:OPAQUE
END:VEVENT
END:VCALENDAR
